BEGIN:VCALENDAR
VERSION:2.0
PRODID:-//Wisfield School - ECPv6.15.11//NONSGML v1.0//EN
CALSCALE:GREGORIAN
METHOD:PUBLISH
X-ORIGINAL-URL:https://wisfieldschool.com
X-WR-CALDESC:Events for Wisfield School
REFRESH-INTERVAL;VALUE=DURATION:PT1H
X-Robots-Tag:noindex
X-PUBLISHED-TTL:PT1H
BEGIN:VTIMEZONE
TZID:Asia/Kolkata
BEGIN:STANDARD
TZOFFSETFROM:+0530
TZOFFSETTO:+0530
TZNAME:IST
DTSTART:20240101T000000
END:STANDARD
END:VTIMEZONE
BEGIN:VEVENT
DTSTART;VALUE=DATE:20250808
DTEND;VALUE=DATE:20250809
DTSTAMP:20260421T233424
CREATED:20251017T071106Z
LAST-MODIFIED:20251017T071106Z
UID:4060-1754611200-1754697599@wisfieldschool.com
SUMMARY:Senses in Action (EY)
DESCRIPTION:👀👂👃👅✋ Exploring the world\, one sense at a time! \nOur Senses Booth was a vibrant hub of curiosity where learners dived into the magic of sight\, sound\, smell\, taste\, and touch. Each corner invited them to explore\, experiment\, and discover how their senses work together to shape the way they experience the world. \nFrom identifying mystery scents to feeling different textures\, from catching rhythms to spotting colours—every moment was filled with wonder\, laughter\, and “Aha!” moments.  \nAt Wisfield International School\, we believe learning should be hands-on\, joyful\, and unforgettable—and today\, our Senses Booth made that belief come alive!
URL:https://wisfieldschool.com/event/senses-in-action-ey/
LOCATION:Wisfield Auditorium\, WISFIELD INTERNATIONAL SCHOOL\, Pazhaveli National Highway\, 45\, Chengalpattu Main Rd\, Chengalpattu\, Tamil Nadu\, 603111\, India
END:VEVENT
BEGIN:VEVENT
DTSTART;VALUE=DATE:20250801
DTEND;VALUE=DATE:20250802
DTSTAMP:20260421T233424
CREATED:20251017T070301Z
LAST-MODIFIED:20251017T070301Z
UID:4037-1754006400-1754092799@wisfieldschool.com
SUMMARY:Magic of Seasons (EY)
DESCRIPTION:A Day of Sunshine\, Snowflakes & Showers! \nOur Early Years learners brought the seasons to life with colour\, creativity\, and contagious energy! From splashing in water\, basking in summer vibes\, to cozying up for winter fun — the celebration of Summer\, Winter\, and Rainy Season was nothing short of magical. \nEvery season told a story\, and our little stars were the perfect storytellers!
URL:https://wisfieldschool.com/event/magic-of-seasons-ey/
LOCATION:Wisfield Auditorium\, WISFIELD INTERNATIONAL SCHOOL\, Pazhaveli National Highway\, 45\, Chengalpattu Main Rd\, Chengalpattu\, Tamil Nadu\, 603111\, India
END:VEVENT
BEGIN:VEVENT
DTSTART;VALUE=DATE:20250718
DTEND;VALUE=DATE:20250719
DTSTAMP:20260421T233424
CREATED:20251017T065850Z
LAST-MODIFIED:20251017T065850Z
UID:4031-1752796800-1752883199@wisfieldschool.com
SUMMARY:Musical Event (EY)
DESCRIPTION:Little musicians\, big applause. Our Early Years stars filled the air with rhythm and melody.
URL:https://wisfieldschool.com/event/musical-event-ey/
LOCATION:Wisfield Auditorium\, WISFIELD INTERNATIONAL SCHOOL\, Pazhaveli National Highway\, 45\, Chengalpattu Main Rd\, Chengalpattu\, Tamil Nadu\, 603111\, India
END:VEVENT
BEGIN:VEVENT
DTSTART;VALUE=DATE:20250705
DTEND;VALUE=DATE:20250706
DTSTAMP:20260421T233424
CREATED:20251017T065028Z
LAST-MODIFIED:20251017T065028Z
UID:4008-1751673600-1751759999@wisfieldschool.com
SUMMARY:Educational Trip
DESCRIPTION:Hands-on learning and fresh air! Our young explorers enjoyed an exciting farm visit\, discovering where our food comes from and connecting with nature.
URL:https://wisfieldschool.com/event/educational-trip/
LOCATION:Wisfield Auditorium\, WISFIELD INTERNATIONAL SCHOOL\, Pazhaveli National Highway\, 45\, Chengalpattu Main Rd\, Chengalpattu\, Tamil Nadu\, 603111\, India
END:VEVENT
BEGIN:VEVENT
DTSTART;VALUE=DATE:20250701
DTEND;VALUE=DATE:20250702
DTSTAMP:20260421T233424
CREATED:20251017T065103Z
LAST-MODIFIED:20251017T065103Z
UID:3995-1751328000-1751414399@wisfieldschool.com
SUMMARY:National Doctors Day
DESCRIPTION:Honoring the heroes in white coats who dedicate their lives to our health and well-being. Thank you\, doctors\, for your unwavering care and compassion.
URL:https://wisfieldschool.com/event/national-doctors-day/
LOCATION:Wisfield Auditorium\, WISFIELD INTERNATIONAL SCHOOL\, Pazhaveli National Highway\, 45\, Chengalpattu Main Rd\, Chengalpattu\, Tamil Nadu\, 603111\, India
END:VEVENT
BEGIN:VEVENT
DTSTART;VALUE=DATE:20250623
DTEND;VALUE=DATE:20250628
DTSTAMP:20260421T233424
CREATED:20251017T064029Z
LAST-MODIFIED:20251017T064029Z
UID:3985-1750636800-1751068799@wisfieldschool.com
SUMMARY:World Environment Day
DESCRIPTION:A splash of joy and creativity filled the air as our learners celebrated Colour Day! Bright hues and big smiles made it a day full of fun and imagination at Wisfield.
URL:https://wisfieldschool.com/event/world-environment-day/
LOCATION:Wisfield Auditorium\, WISFIELD INTERNATIONAL SCHOOL\, Pazhaveli National Highway\, 45\, Chengalpattu Main Rd\, Chengalpattu\, Tamil Nadu\, 603111\, India
END:VEVENT
BEGIN:VEVENT
DTSTART;VALUE=DATE:20250623
DTEND;VALUE=DATE:20250628
DTSTAMP:20260421T233424
CREATED:20251017T062847Z
LAST-MODIFIED:20251017T062847Z
UID:3973-1750636800-1751068799@wisfieldschool.com
SUMMARY:Colour Day
DESCRIPTION:A splash of joy and creativity filled the air as our learners celebrated Colour Day! Bright hues and big smiles made it a day full of fun and imagination at Wisfield.
URL:https://wisfieldschool.com/event/colour-day/
LOCATION:Wisfield Auditorium\, WISFIELD INTERNATIONAL SCHOOL\, Pazhaveli National Highway\, 45\, Chengalpattu Main Rd\, Chengalpattu\, Tamil Nadu\, 603111\, India
END:VEVENT
BEGIN:VEVENT
DTSTART;VALUE=DATE:20250621
DTEND;VALUE=DATE:20250622
DTSTAMP:20260421T233424
CREATED:20251017T062527Z
LAST-MODIFIED:20251017T062527Z
UID:3954-1750464000-1750550399@wisfieldschool.com
SUMMARY:Parent Orientation
DESCRIPTION:Building strong partnerships for a brighter future! Thank you to all our parents for joining the Parent Orientation at Wisfield International School. Together\, we’re shaping a nurturing and supportive learning environment.
URL:https://wisfieldschool.com/event/parent-orientation/
LOCATION:Wisfield Auditorium\, WISFIELD INTERNATIONAL SCHOOL\, Pazhaveli National Highway\, 45\, Chengalpattu Main Rd\, Chengalpattu\, Tamil Nadu\, 603111\, India
END:VEVENT
BEGIN:VEVENT
DTSTART;VALUE=DATE:20250621
DTEND;VALUE=DATE:20250622
DTSTAMP:20260421T233424
CREATED:20251017T062207Z
LAST-MODIFIED:20251017T062207Z
UID:3950-1750464000-1750550399@wisfieldschool.com
SUMMARY:International Yoga Day
DESCRIPTION:Balance\, breath\, and bliss. Our young learners embraced the art of mindfulness this International Yoga Day\, finding peace and focus for healthy minds and hearts.
URL:https://wisfieldschool.com/event/international-yoga-day/
LOCATION:Wisfield Auditorium\, WISFIELD INTERNATIONAL SCHOOL\, Pazhaveli National Highway\, 45\, Chengalpattu Main Rd\, Chengalpattu\, Tamil Nadu\, 603111\, India
END:VEVENT
BEGIN:VEVENT
DTSTART;VALUE=DATE:20250620
DTEND;VALUE=DATE:20250621
DTSTAMP:20260421T233424
CREATED:20251017T061508Z
LAST-MODIFIED:20251017T061758Z
UID:3938-1750377600-1750463999@wisfieldschool.com
SUMMARY:Welcome Day
DESCRIPTION:Smiles\, new friends\, and a fresh beginning. Welcome Day marked the start of something beautiful at Wisfield International School. Here’s to a year of learning & laughter!
URL:https://wisfieldschool.com/event/welcome-day/
LOCATION:Wisfield Auditorium\, WISFIELD INTERNATIONAL SCHOOL\, Pazhaveli National Highway\, 45\, Chengalpattu Main Rd\, Chengalpattu\, Tamil Nadu\, 603111\, India
END:VEVENT
BEGIN:VEVENT
DTSTART;VALUE=DATE:20250613
DTEND;VALUE=DATE:20250616
DTSTAMP:20260421T233424
CREATED:20251016T054501Z
LAST-MODIFIED:20251017T060705Z
UID:3896-1749772800-1750031999@wisfieldschool.com
SUMMARY:Grand Launch Highlights
DESCRIPTION:A dream takes flight. Thank you for joining us at the Grand Launch of Wisfield International School — where every child’s journey begins with curiosity\, courage\, and care.
URL:https://wisfieldschool.com/event/grand-launch-highlights/
LOCATION:Wisfield Auditorium\, WISFIELD INTERNATIONAL SCHOOL\, Pazhaveli National Highway\, 45\, Chengalpattu Main Rd\, Chengalpattu\, Tamil Nadu\, 603111\, India
END:VEVENT
END:VCALENDAR