BEGIN:VCALENDAR
VERSION:2.0
PRODID:-//Wisfield School - ECPv6.15.11//NONSGML v1.0//EN
CALSCALE:GREGORIAN
METHOD:PUBLISH
X-WR-CALNAME:Wisfield School
X-ORIGINAL-URL:https://wisfieldschool.com
X-WR-CALDESC:Events for Wisfield School
REFRESH-INTERVAL;VALUE=DURATION:PT1H
X-Robots-Tag:noindex
X-PUBLISHED-TTL:PT1H
BEGIN:VTIMEZONE
TZID:Asia/Kolkata
BEGIN:STANDARD
TZOFFSETFROM:+0530
TZOFFSETTO:+0530
TZNAME:IST
DTSTART:20240101T000000
END:STANDARD
END:VTIMEZONE
BEGIN:VEVENT
DTSTART;VALUE=DATE:20250623
DTEND;VALUE=DATE:20250628
DTSTAMP:20260422T010608
CREATED:20251017T064029Z
LAST-MODIFIED:20251017T064029Z
UID:3985-1750636800-1751068799@wisfieldschool.com
SUMMARY:World Environment Day
DESCRIPTION:A splash of joy and creativity filled the air as our learners celebrated Colour Day! Bright hues and big smiles made it a day full of fun and imagination at Wisfield.
URL:https://wisfieldschool.com/event/world-environment-day/
LOCATION:Wisfield Auditorium\, WISFIELD INTERNATIONAL SCHOOL\, Pazhaveli National Highway\, 45\, Chengalpattu Main Rd\, Chengalpattu\, Tamil Nadu\, 603111\, India
END:VEVENT
END:VCALENDAR