BEGIN:VCALENDAR
VERSION:2.0
PRODID:-//Wisfield School - ECPv6.15.11//NONSGML v1.0//EN
CALSCALE:GREGORIAN
METHOD:PUBLISH
X-WR-CALNAME:Wisfield School
X-ORIGINAL-URL:https://wisfieldschool.com
X-WR-CALDESC:Events for Wisfield School
REFRESH-INTERVAL;VALUE=DURATION:PT1H
X-Robots-Tag:noindex
X-PUBLISHED-TTL:PT1H
BEGIN:VTIMEZONE
TZID:Asia/Kolkata
BEGIN:STANDARD
TZOFFSETFROM:+0530
TZOFFSETTO:+0530
TZNAME:IST
DTSTART:20240101T000000
END:STANDARD
END:VTIMEZONE
BEGIN:VEVENT
DTSTART;VALUE=DATE:20250705
DTEND;VALUE=DATE:20250706
DTSTAMP:20260422T010407
CREATED:20251017T065028Z
LAST-MODIFIED:20251017T065028Z
UID:4008-1751673600-1751759999@wisfieldschool.com
SUMMARY:Educational Trip
DESCRIPTION:Hands-on learning and fresh air! Our young explorers enjoyed an exciting farm visit\, discovering where our food comes from and connecting with nature.
URL:https://wisfieldschool.com/event/educational-trip/
LOCATION:Wisfield Auditorium\, WISFIELD INTERNATIONAL SCHOOL\, Pazhaveli National Highway\, 45\, Chengalpattu Main Rd\, Chengalpattu\, Tamil Nadu\, 603111\, India
END:VEVENT
END:VCALENDAR